BEGIN:VCALENDAR
VERSION:2.0
PRODID:-//wp-events-plugin.com//7.2.3.1//EN
TZID:Europe/Berlin
X-WR-TIMEZONE:Europe/Berlin
BEGIN:VEVENT
UID:60@ostseeheute.de
DTSTART;TZID=Europe/Berlin:20260613T000000
DTEND;TZID=Europe/Berlin:20260614T000000
DTSTAMP:20260412T184327Z
URL:https://ostseeheute.de/veranstaltungen/kellenhusen-tag-des-hundes-2026
 /
SUMMARY:Kellenhusen Tag des Hundes 2026
DESCRIPTION:Wenn ein Urlaubsort wie Kellenhusen ein Event rund um Hunde ver
 anstaltet\, passt das ziemlich gut zusammen. Strand\, Promenade\, viel fri
 sche Luft und eine lockere Atmosphäre sind schließlich genau die Dinge\,
  die viele Hundebesitzer an der Ostsee schätzen. Beim Tag des Hundes 2026
  dreht sich in Kellenhusen deshalb zwei Tage lang vieles um Vierbeiner und
  ihre Menschen. Laut offizieller Ankündigung wird der Seebrückenplatz am
  13. und 14. Juni 2026 zur Treffpunktfläche für Hundefreunde.\n\nWas Bes
 ucher erwartet\nDie offizielle Beschreibung verspricht ein Wochenende voll
 er Aktionen\, Informationen und Unterhaltung rund um den Hund. Genannt wer
 den ein buntes Bühnenprogramm\, Mitmachaktionen\, Infos für Hundehalter 
 und eine insgesamt hundefreundliche Atmosphäre direkt an der Promenade. D
 as klingt nach einem Event\, bei dem nicht nur zugeschaut wird\, sondern b
 ei dem man als Hundebesitzer auch wirklich etwas mitnehmen kann — sei es
  Inspiration\, Austausch oder einfach ein netter gemeinsamer Tag mit dem e
 igenen Tier.\n\nWarum sich ein Besuch lohnt\nDer Reiz dieses Wochenendes l
 iegt darin\, dass es mehr ist als nur ein Markt oder eine Vorführung. Wer
  mit Hund unterwegs ist\, erlebt Kellenhusen hier in einem Rahmen\, der se
 hr gut zum Ort passt. Und auch ohne eigenen Hund kann das Event Spaß mach
 en\, weil es lebendig\, offen und meistens ziemlich sympathisch wirkt. Ger
 ade Veranstaltungen mit Tieren haben oft eine lockere Stimmung\, weil viel
 e Menschen automatisch ins Gespräch kommen. Diese Einordnung ist meine Be
 schreibung\, sie passt aber gut zum offiziell angekündigten Charakter mit
  Mitmachaktionen und Infoteil.\n\nWetter Mitte Juni: gute Zeit für ein Ou
 tdoor-Event\nFür den 13. und 14. Juni 2026 gibt es natürlich noch keine 
 belastbare Tagesprognose. Mitte Juni ist Kellenhusen an der Ostsee aber of
 t schon sehr angenehm für längere Zeit draußen. Gleichzeitig gilt gerad
 e mit Hund: Sonne\, Wärme und Bewegung sollten gut zusammenpassen. Wasser
 \, Schattenpausen und entspannte Planung sind deshalb sinnvoll. Für Mensc
 hen reicht meist eine leichte Jacke für den Morgen oder Abend\, für Hund
 e ist eher wichtig\, dass es nicht zu heiß wird und genug Trinkmöglichke
 iten da sind. Das ist meine saisonale Einschätzung\; Datum\, Uhrzeit und 
 Ort sind offiziell bestätigt.\n\nFür wen das Event besonders gut passt\n
 Der Tag des Hundes ist natürlich ideal für Hundebesitzer\, aber nicht nu
 r. Auch Familien\, Tierfreunde und Urlauber\, die Kellenhusen in lebendige
 r Sommerstimmung erleben möchten\, dürften hier auf ihre Kosten kommen. 
 Für Menschen mit Hund ist das Event ein sehr guter Anlass für einen Kurz
 trip\, weil der Ort und das Thema gut zusammenpassen. Für Gäste ohne Hun
 d ist es eher ein netter Programmpunkt als alleiniger Reisegrund. Diese Ei
 nschätzung ist meine praktische Einordnung auf Basis des Eventcharakters.
 \n\nWelche Unterkunft dazu Sinn ergibt\nHier würde ich es so sehen:\nFür
  Hundebesitzer\, die gezielt wegen des Events kommen\, kann sich ein Kurzt
 rip mit 1 bis 2 Übernachtungen gut lohnen. Ob Hotel oder Ferienwohnung\, 
 hängt dann vor allem davon ab\, wie hundefreundlich die Unterkunft ist un
 d wie unkompliziert der Aufenthalt mit Tier sein soll.\nFür Familien mit 
 Hund oder für Gäste\, die 3 bis 5 Nächte bleiben möchten\, würde ich 
 eher eine Ferienwohnung oder ein Ferienhaus empfehlen. Mit Hund ist mehr P
 latz\, eine Küche und ein flexibler Tagesablauf oft deutlich entspannter 
 als ein Hotel. Gerade wenn man morgens und abends noch spazieren geht oder
  sich nicht nach festen Abläufen richten will\, ist das meist die praktis
 chere Lösung.\nFür Gäste ohne Hund ist das Event eher ein guter Tagesau
 sflug oder ein schöner Baustein innerhalb eines ohnehin geplanten Kellenh
 usen-Urlaubs.\n\nFazit\nKellenhusen Tag des Hundes 2026 klingt nach einem 
 sympathischen Sommerwochenende für Hunde und Menschen direkt an der Ostse
 e. Am 13. und 14. Juni 2026 wird der Seebrückenplatz zum Treffpunkt für 
 Mitmachaktionen\, Informationen und lockere Hundestimmung an der Promenade
 . Für Hundebesitzer lohnt sich dafür gut ein kurzer Ostsee-Trip\, für F
 amilien mit Hund oft am besten in einer Ferienwohnung.
CATEGORIES:Kellenhusen
END:VEVENT
BEGIN:VTIMEZONE
TZID:Europe/Berlin
X-LIC-LOCATION:Europe/Berlin
BEGIN:DAYLIGHT
DTSTART:20260329T030000
TZOFFSETFROM:+0100
TZOFFSETTO:+0200
TZNAME:CEST
END:DAYLIGHT
END:VTIMEZONE
END:VCALENDAR